BEGIN:VCALENDAR
VERSION:2.0
PRODID:-//Columbus Karma Thegsum Chöling - ECPv6.15.20//NONSGML v1.0//EN
CALSCALE:GREGORIAN
METHOD:PUBLISH
X-WR-CALNAME:Columbus Karma Thegsum Chöling
X-ORIGINAL-URL:https://columbusktc.org
X-WR-CALDESC:Events for Columbus Karma Thegsum Chöling
REFRESH-INTERVAL;VALUE=DURATION:PT1H
X-Robots-Tag:noindex
X-PUBLISHED-TTL:PT1H
BEGIN:VTIMEZONE
TZID:America/Detroit
BEGIN:DAYLIGHT
TZOFFSETFROM:-0500
TZOFFSETTO:-0400
TZNAME:EDT
DTSTART:20250309T070000
END:DAYLIGHT
BEGIN:STANDARD
TZOFFSETFROM:-0400
TZOFFSETTO:-0500
TZNAME:EST
DTSTART:20251102T060000
END:STANDARD
BEGIN:DAYLIGHT
TZOFFSETFROM:-0500
TZOFFSETTO:-0400
TZNAME:EDT
DTSTART:20260308T070000
END:DAYLIGHT
BEGIN:STANDARD
TZOFFSETFROM:-0400
TZOFFSETTO:-0500
TZNAME:EST
DTSTART:20261101T060000
END:STANDARD
BEGIN:DAYLIGHT
TZOFFSETFROM:-0500
TZOFFSETTO:-0400
TZNAME:EDT
DTSTART:20270314T070000
END:DAYLIGHT
BEGIN:STANDARD
TZOFFSETFROM:-0400
TZOFFSETTO:-0500
TZNAME:EST
DTSTART:20271107T060000
END:STANDARD
END:VTIMEZONE
BEGIN:VEVENT
DTSTART;TZID=America/Detroit:20260303T190000
DTEND;TZID=America/Detroit:20260303T200000
DTSTAMP:20260421T024909
CREATED:20221220T155713Z
LAST-MODIFIED:20221220T155713Z
UID:10003955-1772564400-1772568000@columbusktc.org
SUMMARY:Chenrezig Chant
DESCRIPTION:Virtual Chenrezig Chant occurs weekly on Tuesday evenings. \nSee the Virtual Shrine Room for the most recent Zoom link.
URL:https://columbusktc.org/event/chenrezig-chant-128/2026-03-03/
LOCATION:Zoom Meeting
CATEGORIES:Event,Services
ORGANIZER;CN="Columbus KTC":MAILTO:info@columbusktc.org
END:VEVENT
BEGIN:VEVENT
DTSTART;TZID=America/Detroit:20260304T121500
DTEND;TZID=America/Detroit:20260304T133000
DTSTAMP:20260421T024909
CREATED:20221220T155915Z
LAST-MODIFIED:20221220T155915Z
UID:10004216-1772626500-1772631000@columbusktc.org
SUMMARY:Midday Meditation
DESCRIPTION:Virtual Midday Meditation occurs each Wednesday afternoon from 12:15-1:30. \nSee the Virtual Shrine Room for the most recent Zoom link.
URL:https://columbusktc.org/event/midday-meditation-350/2026-03-04/
LOCATION:Zoom Meeting
CATEGORIES:Event,Services
ORGANIZER;CN="Columbus KTC":MAILTO:info@columbusktc.org
END:VEVENT
BEGIN:VEVENT
DTSTART;TZID=America/Detroit:20260310T190000
DTEND;TZID=America/Detroit:20260310T200000
DTSTAMP:20260421T024909
CREATED:20221220T155713Z
LAST-MODIFIED:20221220T155713Z
UID:10003956-1773169200-1773172800@columbusktc.org
SUMMARY:Chenrezig Chant
DESCRIPTION:Virtual Chenrezig Chant occurs weekly on Tuesday evenings. \nSee the Virtual Shrine Room for the most recent Zoom link.
URL:https://columbusktc.org/event/chenrezig-chant-128/2026-03-10/
LOCATION:Zoom Meeting
CATEGORIES:Event,Services
ORGANIZER;CN="Columbus KTC":MAILTO:info@columbusktc.org
END:VEVENT
BEGIN:VEVENT
DTSTART;TZID=America/Detroit:20260311T121500
DTEND;TZID=America/Detroit:20260311T133000
DTSTAMP:20260421T024909
CREATED:20221220T155915Z
LAST-MODIFIED:20221220T155915Z
UID:10004217-1773231300-1773235800@columbusktc.org
SUMMARY:Midday Meditation
DESCRIPTION:Virtual Midday Meditation occurs each Wednesday afternoon from 12:15-1:30. \nSee the Virtual Shrine Room for the most recent Zoom link.
URL:https://columbusktc.org/event/midday-meditation-350/2026-03-11/
LOCATION:Zoom Meeting
CATEGORIES:Event,Services
ORGANIZER;CN="Columbus KTC":MAILTO:info@columbusktc.org
END:VEVENT
BEGIN:VEVENT
DTSTART;TZID=America/Detroit:20260317T190000
DTEND;TZID=America/Detroit:20260317T200000
DTSTAMP:20260421T024909
CREATED:20221220T155713Z
LAST-MODIFIED:20221220T155713Z
UID:10003957-1773774000-1773777600@columbusktc.org
SUMMARY:Chenrezig Chant
DESCRIPTION:Virtual Chenrezig Chant occurs weekly on Tuesday evenings. \nSee the Virtual Shrine Room for the most recent Zoom link.
URL:https://columbusktc.org/event/chenrezig-chant-128/2026-03-17/
LOCATION:Zoom Meeting
CATEGORIES:Event,Services
ORGANIZER;CN="Columbus KTC":MAILTO:info@columbusktc.org
END:VEVENT
BEGIN:VEVENT
DTSTART;TZID=America/Detroit:20260318T121500
DTEND;TZID=America/Detroit:20260318T133000
DTSTAMP:20260421T024909
CREATED:20221220T155915Z
LAST-MODIFIED:20221220T155915Z
UID:10004218-1773836100-1773840600@columbusktc.org
SUMMARY:Midday Meditation
DESCRIPTION:Virtual Midday Meditation occurs each Wednesday afternoon from 12:15-1:30. \nSee the Virtual Shrine Room for the most recent Zoom link.
URL:https://columbusktc.org/event/midday-meditation-350/2026-03-18/
LOCATION:Zoom Meeting
CATEGORIES:Event,Services
ORGANIZER;CN="Columbus KTC":MAILTO:info@columbusktc.org
END:VEVENT
BEGIN:VEVENT
DTSTART;TZID=America/Detroit:20260324T190000
DTEND;TZID=America/Detroit:20260324T200000
DTSTAMP:20260421T024909
CREATED:20221220T155713Z
LAST-MODIFIED:20221220T155713Z
UID:10003958-1774378800-1774382400@columbusktc.org
SUMMARY:Chenrezig Chant
DESCRIPTION:Virtual Chenrezig Chant occurs weekly on Tuesday evenings. \nSee the Virtual Shrine Room for the most recent Zoom link.
URL:https://columbusktc.org/event/chenrezig-chant-128/2026-03-24/
LOCATION:Zoom Meeting
CATEGORIES:Event,Services
ORGANIZER;CN="Columbus KTC":MAILTO:info@columbusktc.org
END:VEVENT
BEGIN:VEVENT
DTSTART;TZID=America/Detroit:20260325T121500
DTEND;TZID=America/Detroit:20260325T133000
DTSTAMP:20260421T024909
CREATED:20221220T155915Z
LAST-MODIFIED:20221220T155915Z
UID:10004219-1774440900-1774445400@columbusktc.org
SUMMARY:Midday Meditation
DESCRIPTION:Virtual Midday Meditation occurs each Wednesday afternoon from 12:15-1:30. \nSee the Virtual Shrine Room for the most recent Zoom link.
URL:https://columbusktc.org/event/midday-meditation-350/2026-03-25/
LOCATION:Zoom Meeting
CATEGORIES:Event,Services
ORGANIZER;CN="Columbus KTC":MAILTO:info@columbusktc.org
END:VEVENT
BEGIN:VEVENT
DTSTART;TZID=America/Detroit:20260331T190000
DTEND;TZID=America/Detroit:20260331T200000
DTSTAMP:20260421T024909
CREATED:20221220T155713Z
LAST-MODIFIED:20221220T155713Z
UID:10003959-1774983600-1774987200@columbusktc.org
SUMMARY:Chenrezig Chant
DESCRIPTION:Virtual Chenrezig Chant occurs weekly on Tuesday evenings. \nSee the Virtual Shrine Room for the most recent Zoom link.
URL:https://columbusktc.org/event/chenrezig-chant-128/2026-03-31/
LOCATION:Zoom Meeting
CATEGORIES:Event,Services
ORGANIZER;CN="Columbus KTC":MAILTO:info@columbusktc.org
END:VEVENT
END:VCALENDAR