BEGIN:VCALENDAR
VERSION:2.0
PRODID:-//Columbus Karma Thegsum Chöling - ECPv6.15.20//NONSGML v1.0//EN
CALSCALE:GREGORIAN
METHOD:PUBLISH
X-ORIGINAL-URL:https://columbusktc.org
X-WR-CALDESC:Events for Columbus Karma Thegsum Chöling
REFRESH-INTERVAL;VALUE=DURATION:PT1H
X-Robots-Tag:noindex
X-PUBLISHED-TTL:PT1H
BEGIN:VTIMEZONE
TZID:America/Detroit
BEGIN:DAYLIGHT
TZOFFSETFROM:-0500
TZOFFSETTO:-0400
TZNAME:EDT
DTSTART:20250309T070000
END:DAYLIGHT
BEGIN:STANDARD
TZOFFSETFROM:-0400
TZOFFSETTO:-0500
TZNAME:EST
DTSTART:20251102T060000
END:STANDARD
BEGIN:DAYLIGHT
TZOFFSETFROM:-0500
TZOFFSETTO:-0400
TZNAME:EDT
DTSTART:20260308T070000
END:DAYLIGHT
BEGIN:STANDARD
TZOFFSETFROM:-0400
TZOFFSETTO:-0500
TZNAME:EST
DTSTART:20261101T060000
END:STANDARD
BEGIN:DAYLIGHT
TZOFFSETFROM:-0500
TZOFFSETTO:-0400
TZNAME:EDT
DTSTART:20270314T070000
END:DAYLIGHT
BEGIN:STANDARD
TZOFFSETFROM:-0400
TZOFFSETTO:-0500
TZNAME:EST
DTSTART:20271107T060000
END:STANDARD
END:VTIMEZONE
BEGIN:VEVENT
DTSTART;TZID=America/Detroit:20260901T190000
DTEND;TZID=America/Detroit:20260901T200000
DTSTAMP:20260421T084738
CREATED:20221220T155713Z
LAST-MODIFIED:20221220T155713Z
UID:10003981-1788289200-1788292800@columbusktc.org
SUMMARY:Chenrezig Chant
DESCRIPTION:Virtual Chenrezig Chant occurs weekly on Tuesday evenings. \nSee the Virtual Shrine Room for the most recent Zoom link.
URL:https://columbusktc.org/event/chenrezig-chant-128/2026-09-01/
LOCATION:Zoom Meeting
CATEGORIES:Event,Services
ORGANIZER;CN="Columbus KTC":MAILTO:info@columbusktc.org
END:VEVENT
BEGIN:VEVENT
DTSTART;TZID=America/Detroit:20260902T121500
DTEND;TZID=America/Detroit:20260902T133000
DTSTAMP:20260421T084738
CREATED:20221220T155915Z
LAST-MODIFIED:20221220T155915Z
UID:10004242-1788351300-1788355800@columbusktc.org
SUMMARY:Midday Meditation
DESCRIPTION:Virtual Midday Meditation occurs each Wednesday afternoon from 12:15-1:30. \nSee the Virtual Shrine Room for the most recent Zoom link.
URL:https://columbusktc.org/event/midday-meditation-350/2026-09-02/
LOCATION:Zoom Meeting
CATEGORIES:Event,Services
ORGANIZER;CN="Columbus KTC":MAILTO:info@columbusktc.org
END:VEVENT
BEGIN:VEVENT
DTSTART;TZID=America/Detroit:20260908T190000
DTEND;TZID=America/Detroit:20260908T200000
DTSTAMP:20260421T084738
CREATED:20221220T155713Z
LAST-MODIFIED:20221220T155713Z
UID:10003982-1788894000-1788897600@columbusktc.org
SUMMARY:Chenrezig Chant
DESCRIPTION:Virtual Chenrezig Chant occurs weekly on Tuesday evenings. \nSee the Virtual Shrine Room for the most recent Zoom link.
URL:https://columbusktc.org/event/chenrezig-chant-128/2026-09-08/
LOCATION:Zoom Meeting
CATEGORIES:Event,Services
ORGANIZER;CN="Columbus KTC":MAILTO:info@columbusktc.org
END:VEVENT
BEGIN:VEVENT
DTSTART;TZID=America/Detroit:20260909T121500
DTEND;TZID=America/Detroit:20260909T133000
DTSTAMP:20260421T084738
CREATED:20221220T155915Z
LAST-MODIFIED:20221220T155915Z
UID:10004243-1788956100-1788960600@columbusktc.org
SUMMARY:Midday Meditation
DESCRIPTION:Virtual Midday Meditation occurs each Wednesday afternoon from 12:15-1:30. \nSee the Virtual Shrine Room for the most recent Zoom link.
URL:https://columbusktc.org/event/midday-meditation-350/2026-09-09/
LOCATION:Zoom Meeting
CATEGORIES:Event,Services
ORGANIZER;CN="Columbus KTC":MAILTO:info@columbusktc.org
END:VEVENT
BEGIN:VEVENT
DTSTART;TZID=America/Detroit:20260915T190000
DTEND;TZID=America/Detroit:20260915T200000
DTSTAMP:20260421T084738
CREATED:20221220T155713Z
LAST-MODIFIED:20221220T155713Z
UID:10003983-1789498800-1789502400@columbusktc.org
SUMMARY:Chenrezig Chant
DESCRIPTION:Virtual Chenrezig Chant occurs weekly on Tuesday evenings. \nSee the Virtual Shrine Room for the most recent Zoom link.
URL:https://columbusktc.org/event/chenrezig-chant-128/2026-09-15/
LOCATION:Zoom Meeting
CATEGORIES:Event,Services
ORGANIZER;CN="Columbus KTC":MAILTO:info@columbusktc.org
END:VEVENT
BEGIN:VEVENT
DTSTART;TZID=America/Detroit:20260916T121500
DTEND;TZID=America/Detroit:20260916T133000
DTSTAMP:20260421T084738
CREATED:20221220T155915Z
LAST-MODIFIED:20221220T155915Z
UID:10004244-1789560900-1789565400@columbusktc.org
SUMMARY:Midday Meditation
DESCRIPTION:Virtual Midday Meditation occurs each Wednesday afternoon from 12:15-1:30. \nSee the Virtual Shrine Room for the most recent Zoom link.
URL:https://columbusktc.org/event/midday-meditation-350/2026-09-16/
LOCATION:Zoom Meeting
CATEGORIES:Event,Services
ORGANIZER;CN="Columbus KTC":MAILTO:info@columbusktc.org
END:VEVENT
BEGIN:VEVENT
DTSTART;TZID=America/Detroit:20260922T190000
DTEND;TZID=America/Detroit:20260922T200000
DTSTAMP:20260421T084738
CREATED:20221220T155713Z
LAST-MODIFIED:20221220T155713Z
UID:10003984-1790103600-1790107200@columbusktc.org
SUMMARY:Chenrezig Chant
DESCRIPTION:Virtual Chenrezig Chant occurs weekly on Tuesday evenings. \nSee the Virtual Shrine Room for the most recent Zoom link.
URL:https://columbusktc.org/event/chenrezig-chant-128/2026-09-22/
LOCATION:Zoom Meeting
CATEGORIES:Event,Services
ORGANIZER;CN="Columbus KTC":MAILTO:info@columbusktc.org
END:VEVENT
BEGIN:VEVENT
DTSTART;TZID=America/Detroit:20260923T121500
DTEND;TZID=America/Detroit:20260923T133000
DTSTAMP:20260421T084738
CREATED:20221220T155915Z
LAST-MODIFIED:20221220T155915Z
UID:10004245-1790165700-1790170200@columbusktc.org
SUMMARY:Midday Meditation
DESCRIPTION:Virtual Midday Meditation occurs each Wednesday afternoon from 12:15-1:30. \nSee the Virtual Shrine Room for the most recent Zoom link.
URL:https://columbusktc.org/event/midday-meditation-350/2026-09-23/
LOCATION:Zoom Meeting
CATEGORIES:Event,Services
ORGANIZER;CN="Columbus KTC":MAILTO:info@columbusktc.org
END:VEVENT
BEGIN:VEVENT
DTSTART;TZID=America/Detroit:20260929T190000
DTEND;TZID=America/Detroit:20260929T200000
DTSTAMP:20260421T084738
CREATED:20221220T155713Z
LAST-MODIFIED:20221220T155713Z
UID:10003985-1790708400-1790712000@columbusktc.org
SUMMARY:Chenrezig Chant
DESCRIPTION:Virtual Chenrezig Chant occurs weekly on Tuesday evenings. \nSee the Virtual Shrine Room for the most recent Zoom link.
URL:https://columbusktc.org/event/chenrezig-chant-128/2026-09-29/
LOCATION:Zoom Meeting
CATEGORIES:Event,Services
ORGANIZER;CN="Columbus KTC":MAILTO:info@columbusktc.org
END:VEVENT
BEGIN:VEVENT
DTSTART;TZID=America/Detroit:20260930T121500
DTEND;TZID=America/Detroit:20260930T133000
DTSTAMP:20260421T084738
CREATED:20221220T155915Z
LAST-MODIFIED:20221220T155915Z
UID:10004246-1790770500-1790775000@columbusktc.org
SUMMARY:Midday Meditation
DESCRIPTION:Virtual Midday Meditation occurs each Wednesday afternoon from 12:15-1:30. \nSee the Virtual Shrine Room for the most recent Zoom link.
URL:https://columbusktc.org/event/midday-meditation-350/2026-09-30/
LOCATION:Zoom Meeting
CATEGORIES:Event,Services
ORGANIZER;CN="Columbus KTC":MAILTO:info@columbusktc.org
END:VEVENT
END:VCALENDAR