BEGIN:VCALENDAR
VERSION:2.0
PRODID:-//Columbus Karma Thegsum Chöling - ECPv6.15.20//NONSGML v1.0//EN
CALSCALE:GREGORIAN
METHOD:PUBLISH
X-WR-CALNAME:Columbus Karma Thegsum Chöling
X-ORIGINAL-URL:https://columbusktc.org
X-WR-CALDESC:Events for Columbus Karma Thegsum Chöling
REFRESH-INTERVAL;VALUE=DURATION:PT1H
X-Robots-Tag:noindex
X-PUBLISHED-TTL:PT1H
BEGIN:VTIMEZONE
TZID:America/Detroit
BEGIN:DAYLIGHT
TZOFFSETFROM:-0500
TZOFFSETTO:-0400
TZNAME:EDT
DTSTART:20260308T070000
END:DAYLIGHT
BEGIN:STANDARD
TZOFFSETFROM:-0400
TZOFFSETTO:-0500
TZNAME:EST
DTSTART:20261101T060000
END:STANDARD
BEGIN:DAYLIGHT
TZOFFSETFROM:-0500
TZOFFSETTO:-0400
TZNAME:EDT
DTSTART:20270314T070000
END:DAYLIGHT
BEGIN:STANDARD
TZOFFSETFROM:-0400
TZOFFSETTO:-0500
TZNAME:EST
DTSTART:20271107T060000
END:STANDARD
BEGIN:DAYLIGHT
TZOFFSETFROM:-0500
TZOFFSETTO:-0400
TZNAME:EDT
DTSTART:20280312T070000
END:DAYLIGHT
BEGIN:STANDARD
TZOFFSETFROM:-0400
TZOFFSETTO:-0500
TZNAME:EST
DTSTART:20281105T060000
END:STANDARD
END:VTIMEZONE
BEGIN:VEVENT
DTSTART;TZID=America/Detroit:20270721T121500
DTEND;TZID=America/Detroit:20270721T133000
DTSTAMP:20260422T175003
CREATED:20221220T155915Z
LAST-MODIFIED:20221220T155915Z
UID:10004288-1816172100-1816176600@columbusktc.org
SUMMARY:Midday Meditation
DESCRIPTION:Virtual Midday Meditation occurs each Wednesday afternoon from 12:15-1:30. \nSee the Virtual Shrine Room for the most recent Zoom link.
URL:https://columbusktc.org/event/midday-meditation-350/2027-07-21/
LOCATION:Zoom Meeting
CATEGORIES:Event,Services
ORGANIZER;CN="Columbus KTC":MAILTO:info@columbusktc.org
END:VEVENT
BEGIN:VEVENT
DTSTART;TZID=America/Detroit:20270727T190000
DTEND;TZID=America/Detroit:20270727T200000
DTSTAMP:20260422T175003
CREATED:20221220T155713Z
LAST-MODIFIED:20221220T155713Z
UID:10004028-1816714800-1816718400@columbusktc.org
SUMMARY:Chenrezig Chant
DESCRIPTION:Virtual Chenrezig Chant occurs weekly on Tuesday evenings. \nSee the Virtual Shrine Room for the most recent Zoom link.
URL:https://columbusktc.org/event/chenrezig-chant-128/2027-07-27/
LOCATION:Zoom Meeting
CATEGORIES:Event,Services
ORGANIZER;CN="Columbus KTC":MAILTO:info@columbusktc.org
END:VEVENT
BEGIN:VEVENT
DTSTART;TZID=America/Detroit:20270728T121500
DTEND;TZID=America/Detroit:20270728T133000
DTSTAMP:20260422T175003
CREATED:20221220T155915Z
LAST-MODIFIED:20221220T155915Z
UID:10004289-1816776900-1816781400@columbusktc.org
SUMMARY:Midday Meditation
DESCRIPTION:Virtual Midday Meditation occurs each Wednesday afternoon from 12:15-1:30. \nSee the Virtual Shrine Room for the most recent Zoom link.
URL:https://columbusktc.org/event/midday-meditation-350/2027-07-28/
LOCATION:Zoom Meeting
CATEGORIES:Event,Services
ORGANIZER;CN="Columbus KTC":MAILTO:info@columbusktc.org
END:VEVENT
BEGIN:VEVENT
DTSTART;TZID=America/Detroit:20270803T190000
DTEND;TZID=America/Detroit:20270803T200000
DTSTAMP:20260422T175003
CREATED:20221220T155713Z
LAST-MODIFIED:20221220T155713Z
UID:10004029-1817319600-1817323200@columbusktc.org
SUMMARY:Chenrezig Chant
DESCRIPTION:Virtual Chenrezig Chant occurs weekly on Tuesday evenings. \nSee the Virtual Shrine Room for the most recent Zoom link.
URL:https://columbusktc.org/event/chenrezig-chant-128/2027-08-03/
LOCATION:Zoom Meeting
CATEGORIES:Event,Services
ORGANIZER;CN="Columbus KTC":MAILTO:info@columbusktc.org
END:VEVENT
BEGIN:VEVENT
DTSTART;TZID=America/Detroit:20270804T121500
DTEND;TZID=America/Detroit:20270804T133000
DTSTAMP:20260422T175003
CREATED:20221220T155915Z
LAST-MODIFIED:20221220T155915Z
UID:10004290-1817381700-1817386200@columbusktc.org
SUMMARY:Midday Meditation
DESCRIPTION:Virtual Midday Meditation occurs each Wednesday afternoon from 12:15-1:30. \nSee the Virtual Shrine Room for the most recent Zoom link.
URL:https://columbusktc.org/event/midday-meditation-350/2027-08-04/
LOCATION:Zoom Meeting
CATEGORIES:Event,Services
ORGANIZER;CN="Columbus KTC":MAILTO:info@columbusktc.org
END:VEVENT
BEGIN:VEVENT
DTSTART;TZID=America/Detroit:20270810T190000
DTEND;TZID=America/Detroit:20270810T200000
DTSTAMP:20260422T175003
CREATED:20221220T155713Z
LAST-MODIFIED:20221220T155713Z
UID:10004030-1817924400-1817928000@columbusktc.org
SUMMARY:Chenrezig Chant
DESCRIPTION:Virtual Chenrezig Chant occurs weekly on Tuesday evenings. \nSee the Virtual Shrine Room for the most recent Zoom link.
URL:https://columbusktc.org/event/chenrezig-chant-128/2027-08-10/
LOCATION:Zoom Meeting
CATEGORIES:Event,Services
ORGANIZER;CN="Columbus KTC":MAILTO:info@columbusktc.org
END:VEVENT
BEGIN:VEVENT
DTSTART;TZID=America/Detroit:20270811T121500
DTEND;TZID=America/Detroit:20270811T133000
DTSTAMP:20260422T175003
CREATED:20221220T155915Z
LAST-MODIFIED:20221220T155915Z
UID:10004291-1817986500-1817991000@columbusktc.org
SUMMARY:Midday Meditation
DESCRIPTION:Virtual Midday Meditation occurs each Wednesday afternoon from 12:15-1:30. \nSee the Virtual Shrine Room for the most recent Zoom link.
URL:https://columbusktc.org/event/midday-meditation-350/2027-08-11/
LOCATION:Zoom Meeting
CATEGORIES:Event,Services
ORGANIZER;CN="Columbus KTC":MAILTO:info@columbusktc.org
END:VEVENT
BEGIN:VEVENT
DTSTART;TZID=America/Detroit:20270817T190000
DTEND;TZID=America/Detroit:20270817T200000
DTSTAMP:20260422T175003
CREATED:20221220T155713Z
LAST-MODIFIED:20221220T155713Z
UID:10004031-1818529200-1818532800@columbusktc.org
SUMMARY:Chenrezig Chant
DESCRIPTION:Virtual Chenrezig Chant occurs weekly on Tuesday evenings. \nSee the Virtual Shrine Room for the most recent Zoom link.
URL:https://columbusktc.org/event/chenrezig-chant-128/2027-08-17/
LOCATION:Zoom Meeting
CATEGORIES:Event,Services
ORGANIZER;CN="Columbus KTC":MAILTO:info@columbusktc.org
END:VEVENT
BEGIN:VEVENT
DTSTART;TZID=America/Detroit:20270818T121500
DTEND;TZID=America/Detroit:20270818T133000
DTSTAMP:20260422T175003
CREATED:20221220T155915Z
LAST-MODIFIED:20221220T155915Z
UID:10004292-1818591300-1818595800@columbusktc.org
SUMMARY:Midday Meditation
DESCRIPTION:Virtual Midday Meditation occurs each Wednesday afternoon from 12:15-1:30. \nSee the Virtual Shrine Room for the most recent Zoom link.
URL:https://columbusktc.org/event/midday-meditation-350/2027-08-18/
LOCATION:Zoom Meeting
CATEGORIES:Event,Services
ORGANIZER;CN="Columbus KTC":MAILTO:info@columbusktc.org
END:VEVENT
BEGIN:VEVENT
DTSTART;TZID=America/Detroit:20270824T190000
DTEND;TZID=America/Detroit:20270824T200000
DTSTAMP:20260422T175003
CREATED:20221220T155713Z
LAST-MODIFIED:20221220T155713Z
UID:10004032-1819134000-1819137600@columbusktc.org
SUMMARY:Chenrezig Chant
DESCRIPTION:Virtual Chenrezig Chant occurs weekly on Tuesday evenings. \nSee the Virtual Shrine Room for the most recent Zoom link.
URL:https://columbusktc.org/event/chenrezig-chant-128/2027-08-24/
LOCATION:Zoom Meeting
CATEGORIES:Event,Services
ORGANIZER;CN="Columbus KTC":MAILTO:info@columbusktc.org
END:VEVENT
BEGIN:VEVENT
DTSTART;TZID=America/Detroit:20270825T121500
DTEND;TZID=America/Detroit:20270825T133000
DTSTAMP:20260422T175003
CREATED:20221220T155915Z
LAST-MODIFIED:20221220T155915Z
UID:10004293-1819196100-1819200600@columbusktc.org
SUMMARY:Midday Meditation
DESCRIPTION:Virtual Midday Meditation occurs each Wednesday afternoon from 12:15-1:30. \nSee the Virtual Shrine Room for the most recent Zoom link.
URL:https://columbusktc.org/event/midday-meditation-350/2027-08-25/
LOCATION:Zoom Meeting
CATEGORIES:Event,Services
ORGANIZER;CN="Columbus KTC":MAILTO:info@columbusktc.org
END:VEVENT
BEGIN:VEVENT
DTSTART;TZID=America/Detroit:20270831T190000
DTEND;TZID=America/Detroit:20270831T200000
DTSTAMP:20260422T175003
CREATED:20221220T155713Z
LAST-MODIFIED:20221220T155713Z
UID:10004033-1819738800-1819742400@columbusktc.org
SUMMARY:Chenrezig Chant
DESCRIPTION:Virtual Chenrezig Chant occurs weekly on Tuesday evenings. \nSee the Virtual Shrine Room for the most recent Zoom link.
URL:https://columbusktc.org/event/chenrezig-chant-128/2027-08-31/
LOCATION:Zoom Meeting
CATEGORIES:Event,Services
ORGANIZER;CN="Columbus KTC":MAILTO:info@columbusktc.org
END:VEVENT
BEGIN:VEVENT
DTSTART;TZID=America/Detroit:20270901T121500
DTEND;TZID=America/Detroit:20270901T133000
DTSTAMP:20260422T175003
CREATED:20221220T155915Z
LAST-MODIFIED:20221220T155915Z
UID:10004294-1819800900-1819805400@columbusktc.org
SUMMARY:Midday Meditation
DESCRIPTION:Virtual Midday Meditation occurs each Wednesday afternoon from 12:15-1:30. \nSee the Virtual Shrine Room for the most recent Zoom link.
URL:https://columbusktc.org/event/midday-meditation-350/2027-09-01/
LOCATION:Zoom Meeting
CATEGORIES:Event,Services
ORGANIZER;CN="Columbus KTC":MAILTO:info@columbusktc.org
END:VEVENT
BEGIN:VEVENT
DTSTART;TZID=America/Detroit:20270907T190000
DTEND;TZID=America/Detroit:20270907T200000
DTSTAMP:20260422T175003
CREATED:20221220T155713Z
LAST-MODIFIED:20221220T155713Z
UID:10004034-1820343600-1820347200@columbusktc.org
SUMMARY:Chenrezig Chant
DESCRIPTION:Virtual Chenrezig Chant occurs weekly on Tuesday evenings. \nSee the Virtual Shrine Room for the most recent Zoom link.
URL:https://columbusktc.org/event/chenrezig-chant-128/2027-09-07/
LOCATION:Zoom Meeting
CATEGORIES:Event,Services
ORGANIZER;CN="Columbus KTC":MAILTO:info@columbusktc.org
END:VEVENT
BEGIN:VEVENT
DTSTART;TZID=America/Detroit:20270908T121500
DTEND;TZID=America/Detroit:20270908T133000
DTSTAMP:20260422T175003
CREATED:20221220T155915Z
LAST-MODIFIED:20221220T155915Z
UID:10004295-1820405700-1820410200@columbusktc.org
SUMMARY:Midday Meditation
DESCRIPTION:Virtual Midday Meditation occurs each Wednesday afternoon from 12:15-1:30. \nSee the Virtual Shrine Room for the most recent Zoom link.
URL:https://columbusktc.org/event/midday-meditation-350/2027-09-08/
LOCATION:Zoom Meeting
CATEGORIES:Event,Services
ORGANIZER;CN="Columbus KTC":MAILTO:info@columbusktc.org
END:VEVENT
BEGIN:VEVENT
DTSTART;TZID=America/Detroit:20270914T190000
DTEND;TZID=America/Detroit:20270914T200000
DTSTAMP:20260422T175003
CREATED:20221220T155713Z
LAST-MODIFIED:20221220T155713Z
UID:10004035-1820948400-1820952000@columbusktc.org
SUMMARY:Chenrezig Chant
DESCRIPTION:Virtual Chenrezig Chant occurs weekly on Tuesday evenings. \nSee the Virtual Shrine Room for the most recent Zoom link.
URL:https://columbusktc.org/event/chenrezig-chant-128/2027-09-14/
LOCATION:Zoom Meeting
CATEGORIES:Event,Services
ORGANIZER;CN="Columbus KTC":MAILTO:info@columbusktc.org
END:VEVENT
BEGIN:VEVENT
DTSTART;TZID=America/Detroit:20270915T121500
DTEND;TZID=America/Detroit:20270915T133000
DTSTAMP:20260422T175003
CREATED:20221220T155915Z
LAST-MODIFIED:20221220T155915Z
UID:10004296-1821010500-1821015000@columbusktc.org
SUMMARY:Midday Meditation
DESCRIPTION:Virtual Midday Meditation occurs each Wednesday afternoon from 12:15-1:30. \nSee the Virtual Shrine Room for the most recent Zoom link.
URL:https://columbusktc.org/event/midday-meditation-350/2027-09-15/
LOCATION:Zoom Meeting
CATEGORIES:Event,Services
ORGANIZER;CN="Columbus KTC":MAILTO:info@columbusktc.org
END:VEVENT
BEGIN:VEVENT
DTSTART;TZID=America/Detroit:20270921T190000
DTEND;TZID=America/Detroit:20270921T200000
DTSTAMP:20260422T175003
CREATED:20221220T155713Z
LAST-MODIFIED:20221220T155713Z
UID:10004036-1821553200-1821556800@columbusktc.org
SUMMARY:Chenrezig Chant
DESCRIPTION:Virtual Chenrezig Chant occurs weekly on Tuesday evenings. \nSee the Virtual Shrine Room for the most recent Zoom link.
URL:https://columbusktc.org/event/chenrezig-chant-128/2027-09-21/
LOCATION:Zoom Meeting
CATEGORIES:Event,Services
ORGANIZER;CN="Columbus KTC":MAILTO:info@columbusktc.org
END:VEVENT
BEGIN:VEVENT
DTSTART;TZID=America/Detroit:20270922T121500
DTEND;TZID=America/Detroit:20270922T133000
DTSTAMP:20260422T175003
CREATED:20221220T155915Z
LAST-MODIFIED:20221220T155915Z
UID:10004297-1821615300-1821619800@columbusktc.org
SUMMARY:Midday Meditation
DESCRIPTION:Virtual Midday Meditation occurs each Wednesday afternoon from 12:15-1:30. \nSee the Virtual Shrine Room for the most recent Zoom link.
URL:https://columbusktc.org/event/midday-meditation-350/2027-09-22/
LOCATION:Zoom Meeting
CATEGORIES:Event,Services
ORGANIZER;CN="Columbus KTC":MAILTO:info@columbusktc.org
END:VEVENT
BEGIN:VEVENT
DTSTART;TZID=America/Detroit:20270928T190000
DTEND;TZID=America/Detroit:20270928T200000
DTSTAMP:20260422T175003
CREATED:20221220T155713Z
LAST-MODIFIED:20221220T155713Z
UID:10004037-1822158000-1822161600@columbusktc.org
SUMMARY:Chenrezig Chant
DESCRIPTION:Virtual Chenrezig Chant occurs weekly on Tuesday evenings. \nSee the Virtual Shrine Room for the most recent Zoom link.
URL:https://columbusktc.org/event/chenrezig-chant-128/2027-09-28/
LOCATION:Zoom Meeting
CATEGORIES:Event,Services
ORGANIZER;CN="Columbus KTC":MAILTO:info@columbusktc.org
END:VEVENT
BEGIN:VEVENT
DTSTART;TZID=America/Detroit:20270929T121500
DTEND;TZID=America/Detroit:20270929T133000
DTSTAMP:20260422T175004
CREATED:20221220T155915Z
LAST-MODIFIED:20221220T155915Z
UID:10004298-1822220100-1822224600@columbusktc.org
SUMMARY:Midday Meditation
DESCRIPTION:Virtual Midday Meditation occurs each Wednesday afternoon from 12:15-1:30. \nSee the Virtual Shrine Room for the most recent Zoom link.
URL:https://columbusktc.org/event/midday-meditation-350/2027-09-29/
LOCATION:Zoom Meeting
CATEGORIES:Event,Services
ORGANIZER;CN="Columbus KTC":MAILTO:info@columbusktc.org
END:VEVENT
BEGIN:VEVENT
DTSTART;TZID=America/Detroit:20271005T190000
DTEND;TZID=America/Detroit:20271005T200000
DTSTAMP:20260422T175004
CREATED:20221220T155713Z
LAST-MODIFIED:20221220T155713Z
UID:10004038-1822762800-1822766400@columbusktc.org
SUMMARY:Chenrezig Chant
DESCRIPTION:Virtual Chenrezig Chant occurs weekly on Tuesday evenings. \nSee the Virtual Shrine Room for the most recent Zoom link.
URL:https://columbusktc.org/event/chenrezig-chant-128/2027-10-05/
LOCATION:Zoom Meeting
CATEGORIES:Event,Services
ORGANIZER;CN="Columbus KTC":MAILTO:info@columbusktc.org
END:VEVENT
BEGIN:VEVENT
DTSTART;TZID=America/Detroit:20271006T121500
DTEND;TZID=America/Detroit:20271006T133000
DTSTAMP:20260422T175004
CREATED:20221220T155915Z
LAST-MODIFIED:20221220T155915Z
UID:10004299-1822824900-1822829400@columbusktc.org
SUMMARY:Midday Meditation
DESCRIPTION:Virtual Midday Meditation occurs each Wednesday afternoon from 12:15-1:30. \nSee the Virtual Shrine Room for the most recent Zoom link.
URL:https://columbusktc.org/event/midday-meditation-350/2027-10-06/
LOCATION:Zoom Meeting
CATEGORIES:Event,Services
ORGANIZER;CN="Columbus KTC":MAILTO:info@columbusktc.org
END:VEVENT
BEGIN:VEVENT
DTSTART;TZID=America/Detroit:20271012T190000
DTEND;TZID=America/Detroit:20271012T200000
DTSTAMP:20260422T175004
CREATED:20221220T155713Z
LAST-MODIFIED:20221220T155713Z
UID:10004039-1823367600-1823371200@columbusktc.org
SUMMARY:Chenrezig Chant
DESCRIPTION:Virtual Chenrezig Chant occurs weekly on Tuesday evenings. \nSee the Virtual Shrine Room for the most recent Zoom link.
URL:https://columbusktc.org/event/chenrezig-chant-128/2027-10-12/
LOCATION:Zoom Meeting
CATEGORIES:Event,Services
ORGANIZER;CN="Columbus KTC":MAILTO:info@columbusktc.org
END:VEVENT
BEGIN:VEVENT
DTSTART;TZID=America/Detroit:20271013T121500
DTEND;TZID=America/Detroit:20271013T133000
DTSTAMP:20260422T175004
CREATED:20221220T155915Z
LAST-MODIFIED:20221220T155915Z
UID:10004300-1823429700-1823434200@columbusktc.org
SUMMARY:Midday Meditation
DESCRIPTION:Virtual Midday Meditation occurs each Wednesday afternoon from 12:15-1:30. \nSee the Virtual Shrine Room for the most recent Zoom link.
URL:https://columbusktc.org/event/midday-meditation-350/2027-10-13/
LOCATION:Zoom Meeting
CATEGORIES:Event,Services
ORGANIZER;CN="Columbus KTC":MAILTO:info@columbusktc.org
END:VEVENT
BEGIN:VEVENT
DTSTART;TZID=America/Detroit:20271019T190000
DTEND;TZID=America/Detroit:20271019T200000
DTSTAMP:20260422T175004
CREATED:20221220T155713Z
LAST-MODIFIED:20221220T155713Z
UID:10004040-1823972400-1823976000@columbusktc.org
SUMMARY:Chenrezig Chant
DESCRIPTION:Virtual Chenrezig Chant occurs weekly on Tuesday evenings. \nSee the Virtual Shrine Room for the most recent Zoom link.
URL:https://columbusktc.org/event/chenrezig-chant-128/2027-10-19/
LOCATION:Zoom Meeting
CATEGORIES:Event,Services
ORGANIZER;CN="Columbus KTC":MAILTO:info@columbusktc.org
END:VEVENT
BEGIN:VEVENT
DTSTART;TZID=America/Detroit:20271020T121500
DTEND;TZID=America/Detroit:20271020T133000
DTSTAMP:20260422T175004
CREATED:20221220T155915Z
LAST-MODIFIED:20221220T155915Z
UID:10004301-1824034500-1824039000@columbusktc.org
SUMMARY:Midday Meditation
DESCRIPTION:Virtual Midday Meditation occurs each Wednesday afternoon from 12:15-1:30. \nSee the Virtual Shrine Room for the most recent Zoom link.
URL:https://columbusktc.org/event/midday-meditation-350/2027-10-20/
LOCATION:Zoom Meeting
CATEGORIES:Event,Services
ORGANIZER;CN="Columbus KTC":MAILTO:info@columbusktc.org
END:VEVENT
BEGIN:VEVENT
DTSTART;TZID=America/Detroit:20271026T190000
DTEND;TZID=America/Detroit:20271026T200000
DTSTAMP:20260422T175004
CREATED:20221220T155713Z
LAST-MODIFIED:20221220T155713Z
UID:10004041-1824577200-1824580800@columbusktc.org
SUMMARY:Chenrezig Chant
DESCRIPTION:Virtual Chenrezig Chant occurs weekly on Tuesday evenings. \nSee the Virtual Shrine Room for the most recent Zoom link.
URL:https://columbusktc.org/event/chenrezig-chant-128/2027-10-26/
LOCATION:Zoom Meeting
CATEGORIES:Event,Services
ORGANIZER;CN="Columbus KTC":MAILTO:info@columbusktc.org
END:VEVENT
BEGIN:VEVENT
DTSTART;TZID=America/Detroit:20271027T121500
DTEND;TZID=America/Detroit:20271027T133000
DTSTAMP:20260422T175004
CREATED:20221220T155915Z
LAST-MODIFIED:20221220T155915Z
UID:10004302-1824639300-1824643800@columbusktc.org
SUMMARY:Midday Meditation
DESCRIPTION:Virtual Midday Meditation occurs each Wednesday afternoon from 12:15-1:30. \nSee the Virtual Shrine Room for the most recent Zoom link.
URL:https://columbusktc.org/event/midday-meditation-350/2027-10-27/
LOCATION:Zoom Meeting
CATEGORIES:Event,Services
ORGANIZER;CN="Columbus KTC":MAILTO:info@columbusktc.org
END:VEVENT
BEGIN:VEVENT
DTSTART;TZID=America/Detroit:20271102T190000
DTEND;TZID=America/Detroit:20271102T200000
DTSTAMP:20260422T175004
CREATED:20221220T155713Z
LAST-MODIFIED:20221220T155713Z
UID:10004042-1825182000-1825185600@columbusktc.org
SUMMARY:Chenrezig Chant
DESCRIPTION:Virtual Chenrezig Chant occurs weekly on Tuesday evenings. \nSee the Virtual Shrine Room for the most recent Zoom link.
URL:https://columbusktc.org/event/chenrezig-chant-128/2027-11-02/
LOCATION:Zoom Meeting
CATEGORIES:Event,Services
ORGANIZER;CN="Columbus KTC":MAILTO:info@columbusktc.org
END:VEVENT
END:VCALENDAR