BEGIN:VCALENDAR
VERSION:2.0
PRODID:-//Columbus Karma Thegsum Chöling - ECPv6.15.20//NONSGML v1.0//EN
CALSCALE:GREGORIAN
METHOD:PUBLISH
X-WR-CALNAME:Columbus Karma Thegsum Chöling
X-ORIGINAL-URL:https://columbusktc.org
X-WR-CALDESC:Events for Columbus Karma Thegsum Chöling
REFRESH-INTERVAL;VALUE=DURATION:PT1H
X-Robots-Tag:noindex
X-PUBLISHED-TTL:PT1H
BEGIN:VTIMEZONE
TZID:America/Detroit
BEGIN:DAYLIGHT
TZOFFSETFROM:-0500
TZOFFSETTO:-0400
TZNAME:EDT
DTSTART:20280312T070000
END:DAYLIGHT
BEGIN:STANDARD
TZOFFSETFROM:-0400
TZOFFSETTO:-0500
TZNAME:EST
DTSTART:20281105T060000
END:STANDARD
BEGIN:DAYLIGHT
TZOFFSETFROM:-0500
TZOFFSETTO:-0400
TZNAME:EDT
DTSTART:20290311T070000
END:DAYLIGHT
BEGIN:STANDARD
TZOFFSETFROM:-0400
TZOFFSETTO:-0500
TZNAME:EST
DTSTART:20291104T060000
END:STANDARD
BEGIN:DAYLIGHT
TZOFFSETFROM:-0500
TZOFFSETTO:-0400
TZNAME:EDT
DTSTART:20300310T070000
END:DAYLIGHT
BEGIN:STANDARD
TZOFFSETFROM:-0400
TZOFFSETTO:-0500
TZNAME:EST
DTSTART:20301103T060000
END:STANDARD
END:VTIMEZONE
BEGIN:VEVENT
DTSTART;TZID=America/Detroit:20290905T121500
DTEND;TZID=America/Detroit:20290905T133000
DTSTAMP:20260425T074232
CREATED:20221220T155915Z
LAST-MODIFIED:20221220T155915Z
UID:10005470-1883304900-1883309400@columbusktc.org
SUMMARY:Midday Meditation
DESCRIPTION:Virtual Midday Meditation occurs each Wednesday afternoon from 12:15-1:30. \nSee the Virtual Shrine Room for the most recent Zoom link.
URL:https://columbusktc.org/event/midday-meditation-350/2029-09-05/
LOCATION:Zoom Meeting
CATEGORIES:Event,Services
ORGANIZER;CN="Columbus KTC":MAILTO:info@columbusktc.org
END:VEVENT
BEGIN:VEVENT
DTSTART;TZID=America/Detroit:20290911T190000
DTEND;TZID=America/Detroit:20290911T200000
DTSTAMP:20260425T074232
CREATED:20221220T155713Z
LAST-MODIFIED:20221220T155713Z
UID:10005327-1883847600-1883851200@columbusktc.org
SUMMARY:Chenrezig Chant
DESCRIPTION:Virtual Chenrezig Chant occurs weekly on Tuesday evenings. \nSee the Virtual Shrine Room for the most recent Zoom link.
URL:https://columbusktc.org/event/chenrezig-chant-128/2029-09-11/
LOCATION:Zoom Meeting
CATEGORIES:Event,Services
ORGANIZER;CN="Columbus KTC":MAILTO:info@columbusktc.org
END:VEVENT
BEGIN:VEVENT
DTSTART;TZID=America/Detroit:20290912T121500
DTEND;TZID=America/Detroit:20290912T133000
DTSTAMP:20260425T074232
CREATED:20221220T155915Z
LAST-MODIFIED:20221220T155915Z
UID:10005471-1883909700-1883914200@columbusktc.org
SUMMARY:Midday Meditation
DESCRIPTION:Virtual Midday Meditation occurs each Wednesday afternoon from 12:15-1:30. \nSee the Virtual Shrine Room for the most recent Zoom link.
URL:https://columbusktc.org/event/midday-meditation-350/2029-09-12/
LOCATION:Zoom Meeting
CATEGORIES:Event,Services
ORGANIZER;CN="Columbus KTC":MAILTO:info@columbusktc.org
END:VEVENT
BEGIN:VEVENT
DTSTART;TZID=America/Detroit:20290918T190000
DTEND;TZID=America/Detroit:20290918T200000
DTSTAMP:20260425T074232
CREATED:20221220T155713Z
LAST-MODIFIED:20221220T155713Z
UID:10005328-1884452400-1884456000@columbusktc.org
SUMMARY:Chenrezig Chant
DESCRIPTION:Virtual Chenrezig Chant occurs weekly on Tuesday evenings. \nSee the Virtual Shrine Room for the most recent Zoom link.
URL:https://columbusktc.org/event/chenrezig-chant-128/2029-09-18/
LOCATION:Zoom Meeting
CATEGORIES:Event,Services
ORGANIZER;CN="Columbus KTC":MAILTO:info@columbusktc.org
END:VEVENT
BEGIN:VEVENT
DTSTART;TZID=America/Detroit:20290919T121500
DTEND;TZID=America/Detroit:20290919T133000
DTSTAMP:20260425T074232
CREATED:20221220T155915Z
LAST-MODIFIED:20221220T155915Z
UID:10005472-1884514500-1884519000@columbusktc.org
SUMMARY:Midday Meditation
DESCRIPTION:Virtual Midday Meditation occurs each Wednesday afternoon from 12:15-1:30. \nSee the Virtual Shrine Room for the most recent Zoom link.
URL:https://columbusktc.org/event/midday-meditation-350/2029-09-19/
LOCATION:Zoom Meeting
CATEGORIES:Event,Services
ORGANIZER;CN="Columbus KTC":MAILTO:info@columbusktc.org
END:VEVENT
BEGIN:VEVENT
DTSTART;TZID=America/Detroit:20290925T190000
DTEND;TZID=America/Detroit:20290925T200000
DTSTAMP:20260425T074232
CREATED:20221220T155713Z
LAST-MODIFIED:20221220T155713Z
UID:10005329-1885057200-1885060800@columbusktc.org
SUMMARY:Chenrezig Chant
DESCRIPTION:Virtual Chenrezig Chant occurs weekly on Tuesday evenings. \nSee the Virtual Shrine Room for the most recent Zoom link.
URL:https://columbusktc.org/event/chenrezig-chant-128/2029-09-25/
LOCATION:Zoom Meeting
CATEGORIES:Event,Services
ORGANIZER;CN="Columbus KTC":MAILTO:info@columbusktc.org
END:VEVENT
BEGIN:VEVENT
DTSTART;TZID=America/Detroit:20290926T121500
DTEND;TZID=America/Detroit:20290926T133000
DTSTAMP:20260425T074232
CREATED:20221220T155915Z
LAST-MODIFIED:20221220T155915Z
UID:10005473-1885119300-1885123800@columbusktc.org
SUMMARY:Midday Meditation
DESCRIPTION:Virtual Midday Meditation occurs each Wednesday afternoon from 12:15-1:30. \nSee the Virtual Shrine Room for the most recent Zoom link.
URL:https://columbusktc.org/event/midday-meditation-350/2029-09-26/
LOCATION:Zoom Meeting
CATEGORIES:Event,Services
ORGANIZER;CN="Columbus KTC":MAILTO:info@columbusktc.org
END:VEVENT
BEGIN:VEVENT
DTSTART;TZID=America/Detroit:20291002T190000
DTEND;TZID=America/Detroit:20291002T200000
DTSTAMP:20260425T074232
CREATED:20221220T155713Z
LAST-MODIFIED:20221220T155713Z
UID:10005330-1885662000-1885665600@columbusktc.org
SUMMARY:Chenrezig Chant
DESCRIPTION:Virtual Chenrezig Chant occurs weekly on Tuesday evenings. \nSee the Virtual Shrine Room for the most recent Zoom link.
URL:https://columbusktc.org/event/chenrezig-chant-128/2029-10-02/
LOCATION:Zoom Meeting
CATEGORIES:Event,Services
ORGANIZER;CN="Columbus KTC":MAILTO:info@columbusktc.org
END:VEVENT
BEGIN:VEVENT
DTSTART;TZID=America/Detroit:20291003T121500
DTEND;TZID=America/Detroit:20291003T133000
DTSTAMP:20260425T074232
CREATED:20221220T155915Z
LAST-MODIFIED:20221220T155915Z
UID:10005474-1885724100-1885728600@columbusktc.org
SUMMARY:Midday Meditation
DESCRIPTION:Virtual Midday Meditation occurs each Wednesday afternoon from 12:15-1:30. \nSee the Virtual Shrine Room for the most recent Zoom link.
URL:https://columbusktc.org/event/midday-meditation-350/2029-10-03/
LOCATION:Zoom Meeting
CATEGORIES:Event,Services
ORGANIZER;CN="Columbus KTC":MAILTO:info@columbusktc.org
END:VEVENT
BEGIN:VEVENT
DTSTART;TZID=America/Detroit:20291009T190000
DTEND;TZID=America/Detroit:20291009T200000
DTSTAMP:20260425T074232
CREATED:20221220T155713Z
LAST-MODIFIED:20221220T155713Z
UID:10005331-1886266800-1886270400@columbusktc.org
SUMMARY:Chenrezig Chant
DESCRIPTION:Virtual Chenrezig Chant occurs weekly on Tuesday evenings. \nSee the Virtual Shrine Room for the most recent Zoom link.
URL:https://columbusktc.org/event/chenrezig-chant-128/2029-10-09/
LOCATION:Zoom Meeting
CATEGORIES:Event,Services
ORGANIZER;CN="Columbus KTC":MAILTO:info@columbusktc.org
END:VEVENT
BEGIN:VEVENT
DTSTART;TZID=America/Detroit:20291010T121500
DTEND;TZID=America/Detroit:20291010T133000
DTSTAMP:20260425T074232
CREATED:20221220T155915Z
LAST-MODIFIED:20221220T155915Z
UID:10005475-1886328900-1886333400@columbusktc.org
SUMMARY:Midday Meditation
DESCRIPTION:Virtual Midday Meditation occurs each Wednesday afternoon from 12:15-1:30. \nSee the Virtual Shrine Room for the most recent Zoom link.
URL:https://columbusktc.org/event/midday-meditation-350/2029-10-10/
LOCATION:Zoom Meeting
CATEGORIES:Event,Services
ORGANIZER;CN="Columbus KTC":MAILTO:info@columbusktc.org
END:VEVENT
BEGIN:VEVENT
DTSTART;TZID=America/Detroit:20291016T190000
DTEND;TZID=America/Detroit:20291016T200000
DTSTAMP:20260425T074232
CREATED:20221220T155713Z
LAST-MODIFIED:20221220T155713Z
UID:10005332-1886871600-1886875200@columbusktc.org
SUMMARY:Chenrezig Chant
DESCRIPTION:Virtual Chenrezig Chant occurs weekly on Tuesday evenings. \nSee the Virtual Shrine Room for the most recent Zoom link.
URL:https://columbusktc.org/event/chenrezig-chant-128/2029-10-16/
LOCATION:Zoom Meeting
CATEGORIES:Event,Services
ORGANIZER;CN="Columbus KTC":MAILTO:info@columbusktc.org
END:VEVENT
BEGIN:VEVENT
DTSTART;TZID=America/Detroit:20291017T121500
DTEND;TZID=America/Detroit:20291017T133000
DTSTAMP:20260425T074232
CREATED:20221220T155915Z
LAST-MODIFIED:20221220T155915Z
UID:10005476-1886933700-1886938200@columbusktc.org
SUMMARY:Midday Meditation
DESCRIPTION:Virtual Midday Meditation occurs each Wednesday afternoon from 12:15-1:30. \nSee the Virtual Shrine Room for the most recent Zoom link.
URL:https://columbusktc.org/event/midday-meditation-350/2029-10-17/
LOCATION:Zoom Meeting
CATEGORIES:Event,Services
ORGANIZER;CN="Columbus KTC":MAILTO:info@columbusktc.org
END:VEVENT
BEGIN:VEVENT
DTSTART;TZID=America/Detroit:20291023T190000
DTEND;TZID=America/Detroit:20291023T200000
DTSTAMP:20260425T074232
CREATED:20221220T155713Z
LAST-MODIFIED:20221220T155713Z
UID:10005333-1887476400-1887480000@columbusktc.org
SUMMARY:Chenrezig Chant
DESCRIPTION:Virtual Chenrezig Chant occurs weekly on Tuesday evenings. \nSee the Virtual Shrine Room for the most recent Zoom link.
URL:https://columbusktc.org/event/chenrezig-chant-128/2029-10-23/
LOCATION:Zoom Meeting
CATEGORIES:Event,Services
ORGANIZER;CN="Columbus KTC":MAILTO:info@columbusktc.org
END:VEVENT
BEGIN:VEVENT
DTSTART;TZID=America/Detroit:20291024T121500
DTEND;TZID=America/Detroit:20291024T133000
DTSTAMP:20260425T074232
CREATED:20221220T155915Z
LAST-MODIFIED:20221220T155915Z
UID:10005477-1887538500-1887543000@columbusktc.org
SUMMARY:Midday Meditation
DESCRIPTION:Virtual Midday Meditation occurs each Wednesday afternoon from 12:15-1:30. \nSee the Virtual Shrine Room for the most recent Zoom link.
URL:https://columbusktc.org/event/midday-meditation-350/2029-10-24/
LOCATION:Zoom Meeting
CATEGORIES:Event,Services
ORGANIZER;CN="Columbus KTC":MAILTO:info@columbusktc.org
END:VEVENT
BEGIN:VEVENT
DTSTART;TZID=America/Detroit:20291030T190000
DTEND;TZID=America/Detroit:20291030T200000
DTSTAMP:20260425T074233
CREATED:20221220T155713Z
LAST-MODIFIED:20221220T155713Z
UID:10005334-1888081200-1888084800@columbusktc.org
SUMMARY:Chenrezig Chant
DESCRIPTION:Virtual Chenrezig Chant occurs weekly on Tuesday evenings. \nSee the Virtual Shrine Room for the most recent Zoom link.
URL:https://columbusktc.org/event/chenrezig-chant-128/2029-10-30/
LOCATION:Zoom Meeting
CATEGORIES:Event,Services
ORGANIZER;CN="Columbus KTC":MAILTO:info@columbusktc.org
END:VEVENT
BEGIN:VEVENT
DTSTART;TZID=America/Detroit:20291031T121500
DTEND;TZID=America/Detroit:20291031T133000
DTSTAMP:20260425T074233
CREATED:20221220T155915Z
LAST-MODIFIED:20221220T155915Z
UID:10005478-1888143300-1888147800@columbusktc.org
SUMMARY:Midday Meditation
DESCRIPTION:Virtual Midday Meditation occurs each Wednesday afternoon from 12:15-1:30. \nSee the Virtual Shrine Room for the most recent Zoom link.
URL:https://columbusktc.org/event/midday-meditation-350/2029-10-31/
LOCATION:Zoom Meeting
CATEGORIES:Event,Services
ORGANIZER;CN="Columbus KTC":MAILTO:info@columbusktc.org
END:VEVENT
BEGIN:VEVENT
DTSTART;TZID=America/Detroit:20291106T190000
DTEND;TZID=America/Detroit:20291106T200000
DTSTAMP:20260425T074233
CREATED:20221220T155713Z
LAST-MODIFIED:20221220T155713Z
UID:10005335-1888686000-1888689600@columbusktc.org
SUMMARY:Chenrezig Chant
DESCRIPTION:Virtual Chenrezig Chant occurs weekly on Tuesday evenings. \nSee the Virtual Shrine Room for the most recent Zoom link.
URL:https://columbusktc.org/event/chenrezig-chant-128/2029-11-06/
LOCATION:Zoom Meeting
CATEGORIES:Event,Services
ORGANIZER;CN="Columbus KTC":MAILTO:info@columbusktc.org
END:VEVENT
BEGIN:VEVENT
DTSTART;TZID=America/Detroit:20291107T121500
DTEND;TZID=America/Detroit:20291107T133000
DTSTAMP:20260425T074233
CREATED:20221220T155915Z
LAST-MODIFIED:20221220T155915Z
UID:10005479-1888748100-1888752600@columbusktc.org
SUMMARY:Midday Meditation
DESCRIPTION:Virtual Midday Meditation occurs each Wednesday afternoon from 12:15-1:30. \nSee the Virtual Shrine Room for the most recent Zoom link.
URL:https://columbusktc.org/event/midday-meditation-350/2029-11-07/
LOCATION:Zoom Meeting
CATEGORIES:Event,Services
ORGANIZER;CN="Columbus KTC":MAILTO:info@columbusktc.org
END:VEVENT
BEGIN:VEVENT
DTSTART;TZID=America/Detroit:20291113T190000
DTEND;TZID=America/Detroit:20291113T200000
DTSTAMP:20260425T074233
CREATED:20221220T155713Z
LAST-MODIFIED:20221220T155713Z
UID:10005336-1889290800-1889294400@columbusktc.org
SUMMARY:Chenrezig Chant
DESCRIPTION:Virtual Chenrezig Chant occurs weekly on Tuesday evenings. \nSee the Virtual Shrine Room for the most recent Zoom link.
URL:https://columbusktc.org/event/chenrezig-chant-128/2029-11-13/
LOCATION:Zoom Meeting
CATEGORIES:Event,Services
ORGANIZER;CN="Columbus KTC":MAILTO:info@columbusktc.org
END:VEVENT
BEGIN:VEVENT
DTSTART;TZID=America/Detroit:20291114T121500
DTEND;TZID=America/Detroit:20291114T133000
DTSTAMP:20260425T074233
CREATED:20221220T155915Z
LAST-MODIFIED:20221220T155915Z
UID:10005480-1889352900-1889357400@columbusktc.org
SUMMARY:Midday Meditation
DESCRIPTION:Virtual Midday Meditation occurs each Wednesday afternoon from 12:15-1:30. \nSee the Virtual Shrine Room for the most recent Zoom link.
URL:https://columbusktc.org/event/midday-meditation-350/2029-11-14/
LOCATION:Zoom Meeting
CATEGORIES:Event,Services
ORGANIZER;CN="Columbus KTC":MAILTO:info@columbusktc.org
END:VEVENT
BEGIN:VEVENT
DTSTART;TZID=America/Detroit:20291120T190000
DTEND;TZID=America/Detroit:20291120T200000
DTSTAMP:20260425T074233
CREATED:20221220T155713Z
LAST-MODIFIED:20221220T155713Z
UID:10005337-1889895600-1889899200@columbusktc.org
SUMMARY:Chenrezig Chant
DESCRIPTION:Virtual Chenrezig Chant occurs weekly on Tuesday evenings. \nSee the Virtual Shrine Room for the most recent Zoom link.
URL:https://columbusktc.org/event/chenrezig-chant-128/2029-11-20/
LOCATION:Zoom Meeting
CATEGORIES:Event,Services
ORGANIZER;CN="Columbus KTC":MAILTO:info@columbusktc.org
END:VEVENT
BEGIN:VEVENT
DTSTART;TZID=America/Detroit:20291121T121500
DTEND;TZID=America/Detroit:20291121T133000
DTSTAMP:20260425T074233
CREATED:20221220T155915Z
LAST-MODIFIED:20221220T155915Z
UID:10005481-1889957700-1889962200@columbusktc.org
SUMMARY:Midday Meditation
DESCRIPTION:Virtual Midday Meditation occurs each Wednesday afternoon from 12:15-1:30. \nSee the Virtual Shrine Room for the most recent Zoom link.
URL:https://columbusktc.org/event/midday-meditation-350/2029-11-21/
LOCATION:Zoom Meeting
CATEGORIES:Event,Services
ORGANIZER;CN="Columbus KTC":MAILTO:info@columbusktc.org
END:VEVENT
BEGIN:VEVENT
DTSTART;TZID=America/Detroit:20291127T190000
DTEND;TZID=America/Detroit:20291127T200000
DTSTAMP:20260425T074233
CREATED:20221220T155713Z
LAST-MODIFIED:20221220T155713Z
UID:10005338-1890500400-1890504000@columbusktc.org
SUMMARY:Chenrezig Chant
DESCRIPTION:Virtual Chenrezig Chant occurs weekly on Tuesday evenings. \nSee the Virtual Shrine Room for the most recent Zoom link.
URL:https://columbusktc.org/event/chenrezig-chant-128/2029-11-27/
LOCATION:Zoom Meeting
CATEGORIES:Event,Services
ORGANIZER;CN="Columbus KTC":MAILTO:info@columbusktc.org
END:VEVENT
BEGIN:VEVENT
DTSTART;TZID=America/Detroit:20291128T121500
DTEND;TZID=America/Detroit:20291128T133000
DTSTAMP:20260425T074233
CREATED:20221220T155915Z
LAST-MODIFIED:20221220T155915Z
UID:10005482-1890562500-1890567000@columbusktc.org
SUMMARY:Midday Meditation
DESCRIPTION:Virtual Midday Meditation occurs each Wednesday afternoon from 12:15-1:30. \nSee the Virtual Shrine Room for the most recent Zoom link.
URL:https://columbusktc.org/event/midday-meditation-350/2029-11-28/
LOCATION:Zoom Meeting
CATEGORIES:Event,Services
ORGANIZER;CN="Columbus KTC":MAILTO:info@columbusktc.org
END:VEVENT
BEGIN:VEVENT
DTSTART;TZID=America/Detroit:20291204T190000
DTEND;TZID=America/Detroit:20291204T200000
DTSTAMP:20260425T074233
CREATED:20221220T155713Z
LAST-MODIFIED:20221220T155713Z
UID:10005339-1891105200-1891108800@columbusktc.org
SUMMARY:Chenrezig Chant
DESCRIPTION:Virtual Chenrezig Chant occurs weekly on Tuesday evenings. \nSee the Virtual Shrine Room for the most recent Zoom link.
URL:https://columbusktc.org/event/chenrezig-chant-128/2029-12-04/
LOCATION:Zoom Meeting
CATEGORIES:Event,Services
ORGANIZER;CN="Columbus KTC":MAILTO:info@columbusktc.org
END:VEVENT
BEGIN:VEVENT
DTSTART;TZID=America/Detroit:20291205T121500
DTEND;TZID=America/Detroit:20291205T133000
DTSTAMP:20260425T074233
CREATED:20221220T155915Z
LAST-MODIFIED:20221220T155915Z
UID:10005483-1891167300-1891171800@columbusktc.org
SUMMARY:Midday Meditation
DESCRIPTION:Virtual Midday Meditation occurs each Wednesday afternoon from 12:15-1:30. \nSee the Virtual Shrine Room for the most recent Zoom link.
URL:https://columbusktc.org/event/midday-meditation-350/2029-12-05/
LOCATION:Zoom Meeting
CATEGORIES:Event,Services
ORGANIZER;CN="Columbus KTC":MAILTO:info@columbusktc.org
END:VEVENT
BEGIN:VEVENT
DTSTART;TZID=America/Detroit:20291211T190000
DTEND;TZID=America/Detroit:20291211T200000
DTSTAMP:20260425T074233
CREATED:20221220T155713Z
LAST-MODIFIED:20221220T155713Z
UID:10005340-1891710000-1891713600@columbusktc.org
SUMMARY:Chenrezig Chant
DESCRIPTION:Virtual Chenrezig Chant occurs weekly on Tuesday evenings. \nSee the Virtual Shrine Room for the most recent Zoom link.
URL:https://columbusktc.org/event/chenrezig-chant-128/2029-12-11/
LOCATION:Zoom Meeting
CATEGORIES:Event,Services
ORGANIZER;CN="Columbus KTC":MAILTO:info@columbusktc.org
END:VEVENT
BEGIN:VEVENT
DTSTART;TZID=America/Detroit:20291212T121500
DTEND;TZID=America/Detroit:20291212T133000
DTSTAMP:20260425T074233
CREATED:20221220T155915Z
LAST-MODIFIED:20221220T155915Z
UID:10005484-1891772100-1891776600@columbusktc.org
SUMMARY:Midday Meditation
DESCRIPTION:Virtual Midday Meditation occurs each Wednesday afternoon from 12:15-1:30. \nSee the Virtual Shrine Room for the most recent Zoom link.
URL:https://columbusktc.org/event/midday-meditation-350/2029-12-12/
LOCATION:Zoom Meeting
CATEGORIES:Event,Services
ORGANIZER;CN="Columbus KTC":MAILTO:info@columbusktc.org
END:VEVENT
BEGIN:VEVENT
DTSTART;TZID=America/Detroit:20291218T190000
DTEND;TZID=America/Detroit:20291218T200000
DTSTAMP:20260425T074233
CREATED:20221220T155713Z
LAST-MODIFIED:20221220T155713Z
UID:10005341-1892314800-1892318400@columbusktc.org
SUMMARY:Chenrezig Chant
DESCRIPTION:Virtual Chenrezig Chant occurs weekly on Tuesday evenings. \nSee the Virtual Shrine Room for the most recent Zoom link.
URL:https://columbusktc.org/event/chenrezig-chant-128/2029-12-18/
LOCATION:Zoom Meeting
CATEGORIES:Event,Services
ORGANIZER;CN="Columbus KTC":MAILTO:info@columbusktc.org
END:VEVENT
END:VCALENDAR