BEGIN:VCALENDAR
VERSION:2.0
PRODID:-//Columbus Karma Thegsum Chöling - ECPv6.15.20//NONSGML v1.0//EN
CALSCALE:GREGORIAN
METHOD:PUBLISH
X-ORIGINAL-URL:https://columbusktc.org
X-WR-CALDESC:Events for Columbus Karma Thegsum Chöling
REFRESH-INTERVAL;VALUE=DURATION:PT1H
X-Robots-Tag:noindex
X-PUBLISHED-TTL:PT1H
BEGIN:VTIMEZONE
TZID:America/Detroit
BEGIN:DAYLIGHT
TZOFFSETFROM:-0500
TZOFFSETTO:-0400
TZNAME:EDT
DTSTART:20290311T070000
END:DAYLIGHT
BEGIN:STANDARD
TZOFFSETFROM:-0400
TZOFFSETTO:-0500
TZNAME:EST
DTSTART:20291104T060000
END:STANDARD
BEGIN:DAYLIGHT
TZOFFSETFROM:-0500
TZOFFSETTO:-0400
TZNAME:EDT
DTSTART:20300310T070000
END:DAYLIGHT
BEGIN:STANDARD
TZOFFSETFROM:-0400
TZOFFSETTO:-0500
TZNAME:EST
DTSTART:20301103T060000
END:STANDARD
BEGIN:DAYLIGHT
TZOFFSETFROM:-0500
TZOFFSETTO:-0400
TZNAME:EDT
DTSTART:20310309T070000
END:DAYLIGHT
BEGIN:STANDARD
TZOFFSETFROM:-0400
TZOFFSETTO:-0500
TZNAME:EST
DTSTART:20311102T060000
END:STANDARD
END:VTIMEZONE
BEGIN:VEVENT
DTSTART;TZID=America/Detroit:20300717T121500
DTEND;TZID=America/Detroit:20300717T133000
DTSTAMP:20260425T190737
CREATED:20221220T155915Z
LAST-MODIFIED:20221220T155915Z
UID:10005515-1910520900-1910525400@columbusktc.org
SUMMARY:Midday Meditation
DESCRIPTION:Virtual Midday Meditation occurs each Wednesday afternoon from 12:15-1:30. \nSee the Virtual Shrine Room for the most recent Zoom link.
URL:https://columbusktc.org/event/midday-meditation-350/2030-07-17/
LOCATION:Zoom Meeting
CATEGORIES:Event,Services
ORGANIZER;CN="Columbus KTC":MAILTO:info@columbusktc.org
END:VEVENT
BEGIN:VEVENT
DTSTART;TZID=America/Detroit:20300723T190000
DTEND;TZID=America/Detroit:20300723T200000
DTSTAMP:20260425T190737
CREATED:20221220T155713Z
LAST-MODIFIED:20221220T155713Z
UID:10005372-1911063600-1911067200@columbusktc.org
SUMMARY:Chenrezig Chant
DESCRIPTION:Virtual Chenrezig Chant occurs weekly on Tuesday evenings. \nSee the Virtual Shrine Room for the most recent Zoom link.
URL:https://columbusktc.org/event/chenrezig-chant-128/2030-07-23/
LOCATION:Zoom Meeting
CATEGORIES:Event,Services
ORGANIZER;CN="Columbus KTC":MAILTO:info@columbusktc.org
END:VEVENT
BEGIN:VEVENT
DTSTART;TZID=America/Detroit:20300724T121500
DTEND;TZID=America/Detroit:20300724T133000
DTSTAMP:20260425T190737
CREATED:20221220T155915Z
LAST-MODIFIED:20221220T155915Z
UID:10005516-1911125700-1911130200@columbusktc.org
SUMMARY:Midday Meditation
DESCRIPTION:Virtual Midday Meditation occurs each Wednesday afternoon from 12:15-1:30. \nSee the Virtual Shrine Room for the most recent Zoom link.
URL:https://columbusktc.org/event/midday-meditation-350/2030-07-24/
LOCATION:Zoom Meeting
CATEGORIES:Event,Services
ORGANIZER;CN="Columbus KTC":MAILTO:info@columbusktc.org
END:VEVENT
BEGIN:VEVENT
DTSTART;TZID=America/Detroit:20300730T190000
DTEND;TZID=America/Detroit:20300730T200000
DTSTAMP:20260425T190737
CREATED:20221220T155713Z
LAST-MODIFIED:20221220T155713Z
UID:10005373-1911668400-1911672000@columbusktc.org
SUMMARY:Chenrezig Chant
DESCRIPTION:Virtual Chenrezig Chant occurs weekly on Tuesday evenings. \nSee the Virtual Shrine Room for the most recent Zoom link.
URL:https://columbusktc.org/event/chenrezig-chant-128/2030-07-30/
LOCATION:Zoom Meeting
CATEGORIES:Event,Services
ORGANIZER;CN="Columbus KTC":MAILTO:info@columbusktc.org
END:VEVENT
BEGIN:VEVENT
DTSTART;TZID=America/Detroit:20300731T121500
DTEND;TZID=America/Detroit:20300731T133000
DTSTAMP:20260425T190737
CREATED:20221220T155915Z
LAST-MODIFIED:20221220T155915Z
UID:10005517-1911730500-1911735000@columbusktc.org
SUMMARY:Midday Meditation
DESCRIPTION:Virtual Midday Meditation occurs each Wednesday afternoon from 12:15-1:30. \nSee the Virtual Shrine Room for the most recent Zoom link.
URL:https://columbusktc.org/event/midday-meditation-350/2030-07-31/
LOCATION:Zoom Meeting
CATEGORIES:Event,Services
ORGANIZER;CN="Columbus KTC":MAILTO:info@columbusktc.org
END:VEVENT
BEGIN:VEVENT
DTSTART;TZID=America/Detroit:20300806T190000
DTEND;TZID=America/Detroit:20300806T200000
DTSTAMP:20260425T190737
CREATED:20221220T155713Z
LAST-MODIFIED:20221220T155713Z
UID:10005374-1912273200-1912276800@columbusktc.org
SUMMARY:Chenrezig Chant
DESCRIPTION:Virtual Chenrezig Chant occurs weekly on Tuesday evenings. \nSee the Virtual Shrine Room for the most recent Zoom link.
URL:https://columbusktc.org/event/chenrezig-chant-128/2030-08-06/
LOCATION:Zoom Meeting
CATEGORIES:Event,Services
ORGANIZER;CN="Columbus KTC":MAILTO:info@columbusktc.org
END:VEVENT
BEGIN:VEVENT
DTSTART;TZID=America/Detroit:20300807T121500
DTEND;TZID=America/Detroit:20300807T133000
DTSTAMP:20260425T190737
CREATED:20221220T155915Z
LAST-MODIFIED:20221220T155915Z
UID:10005518-1912335300-1912339800@columbusktc.org
SUMMARY:Midday Meditation
DESCRIPTION:Virtual Midday Meditation occurs each Wednesday afternoon from 12:15-1:30. \nSee the Virtual Shrine Room for the most recent Zoom link.
URL:https://columbusktc.org/event/midday-meditation-350/2030-08-07/
LOCATION:Zoom Meeting
CATEGORIES:Event,Services
ORGANIZER;CN="Columbus KTC":MAILTO:info@columbusktc.org
END:VEVENT
BEGIN:VEVENT
DTSTART;TZID=America/Detroit:20300813T190000
DTEND;TZID=America/Detroit:20300813T200000
DTSTAMP:20260425T190737
CREATED:20221220T155713Z
LAST-MODIFIED:20221220T155713Z
UID:10005375-1912878000-1912881600@columbusktc.org
SUMMARY:Chenrezig Chant
DESCRIPTION:Virtual Chenrezig Chant occurs weekly on Tuesday evenings. \nSee the Virtual Shrine Room for the most recent Zoom link.
URL:https://columbusktc.org/event/chenrezig-chant-128/2030-08-13/
LOCATION:Zoom Meeting
CATEGORIES:Event,Services
ORGANIZER;CN="Columbus KTC":MAILTO:info@columbusktc.org
END:VEVENT
BEGIN:VEVENT
DTSTART;TZID=America/Detroit:20300814T121500
DTEND;TZID=America/Detroit:20300814T133000
DTSTAMP:20260425T190737
CREATED:20221220T155915Z
LAST-MODIFIED:20221220T155915Z
UID:10005519-1912940100-1912944600@columbusktc.org
SUMMARY:Midday Meditation
DESCRIPTION:Virtual Midday Meditation occurs each Wednesday afternoon from 12:15-1:30. \nSee the Virtual Shrine Room for the most recent Zoom link.
URL:https://columbusktc.org/event/midday-meditation-350/2030-08-14/
LOCATION:Zoom Meeting
CATEGORIES:Event,Services
ORGANIZER;CN="Columbus KTC":MAILTO:info@columbusktc.org
END:VEVENT
BEGIN:VEVENT
DTSTART;TZID=America/Detroit:20300820T190000
DTEND;TZID=America/Detroit:20300820T200000
DTSTAMP:20260425T190737
CREATED:20221220T155713Z
LAST-MODIFIED:20221220T155713Z
UID:10005376-1913482800-1913486400@columbusktc.org
SUMMARY:Chenrezig Chant
DESCRIPTION:Virtual Chenrezig Chant occurs weekly on Tuesday evenings. \nSee the Virtual Shrine Room for the most recent Zoom link.
URL:https://columbusktc.org/event/chenrezig-chant-128/2030-08-20/
LOCATION:Zoom Meeting
CATEGORIES:Event,Services
ORGANIZER;CN="Columbus KTC":MAILTO:info@columbusktc.org
END:VEVENT
BEGIN:VEVENT
DTSTART;TZID=America/Detroit:20300821T121500
DTEND;TZID=America/Detroit:20300821T133000
DTSTAMP:20260425T190737
CREATED:20221220T155915Z
LAST-MODIFIED:20221220T155915Z
UID:10005520-1913544900-1913549400@columbusktc.org
SUMMARY:Midday Meditation
DESCRIPTION:Virtual Midday Meditation occurs each Wednesday afternoon from 12:15-1:30. \nSee the Virtual Shrine Room for the most recent Zoom link.
URL:https://columbusktc.org/event/midday-meditation-350/2030-08-21/
LOCATION:Zoom Meeting
CATEGORIES:Event,Services
ORGANIZER;CN="Columbus KTC":MAILTO:info@columbusktc.org
END:VEVENT
BEGIN:VEVENT
DTSTART;TZID=America/Detroit:20300827T190000
DTEND;TZID=America/Detroit:20300827T200000
DTSTAMP:20260425T190737
CREATED:20221220T155713Z
LAST-MODIFIED:20221220T155713Z
UID:10005377-1914087600-1914091200@columbusktc.org
SUMMARY:Chenrezig Chant
DESCRIPTION:Virtual Chenrezig Chant occurs weekly on Tuesday evenings. \nSee the Virtual Shrine Room for the most recent Zoom link.
URL:https://columbusktc.org/event/chenrezig-chant-128/2030-08-27/
LOCATION:Zoom Meeting
CATEGORIES:Event,Services
ORGANIZER;CN="Columbus KTC":MAILTO:info@columbusktc.org
END:VEVENT
BEGIN:VEVENT
DTSTART;TZID=America/Detroit:20300828T121500
DTEND;TZID=America/Detroit:20300828T133000
DTSTAMP:20260425T190737
CREATED:20221220T155915Z
LAST-MODIFIED:20221220T155915Z
UID:10005521-1914149700-1914154200@columbusktc.org
SUMMARY:Midday Meditation
DESCRIPTION:Virtual Midday Meditation occurs each Wednesday afternoon from 12:15-1:30. \nSee the Virtual Shrine Room for the most recent Zoom link.
URL:https://columbusktc.org/event/midday-meditation-350/2030-08-28/
LOCATION:Zoom Meeting
CATEGORIES:Event,Services
ORGANIZER;CN="Columbus KTC":MAILTO:info@columbusktc.org
END:VEVENT
BEGIN:VEVENT
DTSTART;TZID=America/Detroit:20300903T190000
DTEND;TZID=America/Detroit:20300903T200000
DTSTAMP:20260425T190737
CREATED:20221220T155713Z
LAST-MODIFIED:20221220T155713Z
UID:10005378-1914692400-1914696000@columbusktc.org
SUMMARY:Chenrezig Chant
DESCRIPTION:Virtual Chenrezig Chant occurs weekly on Tuesday evenings. \nSee the Virtual Shrine Room for the most recent Zoom link.
URL:https://columbusktc.org/event/chenrezig-chant-128/2030-09-03/
LOCATION:Zoom Meeting
CATEGORIES:Event,Services
ORGANIZER;CN="Columbus KTC":MAILTO:info@columbusktc.org
END:VEVENT
BEGIN:VEVENT
DTSTART;TZID=America/Detroit:20300904T121500
DTEND;TZID=America/Detroit:20300904T133000
DTSTAMP:20260425T190737
CREATED:20221220T155915Z
LAST-MODIFIED:20221220T155915Z
UID:10005522-1914754500-1914759000@columbusktc.org
SUMMARY:Midday Meditation
DESCRIPTION:Virtual Midday Meditation occurs each Wednesday afternoon from 12:15-1:30. \nSee the Virtual Shrine Room for the most recent Zoom link.
URL:https://columbusktc.org/event/midday-meditation-350/2030-09-04/
LOCATION:Zoom Meeting
CATEGORIES:Event,Services
ORGANIZER;CN="Columbus KTC":MAILTO:info@columbusktc.org
END:VEVENT
BEGIN:VEVENT
DTSTART;TZID=America/Detroit:20300910T190000
DTEND;TZID=America/Detroit:20300910T200000
DTSTAMP:20260425T190737
CREATED:20221220T155713Z
LAST-MODIFIED:20221220T155713Z
UID:10005379-1915297200-1915300800@columbusktc.org
SUMMARY:Chenrezig Chant
DESCRIPTION:Virtual Chenrezig Chant occurs weekly on Tuesday evenings. \nSee the Virtual Shrine Room for the most recent Zoom link.
URL:https://columbusktc.org/event/chenrezig-chant-128/2030-09-10/
LOCATION:Zoom Meeting
CATEGORIES:Event,Services
ORGANIZER;CN="Columbus KTC":MAILTO:info@columbusktc.org
END:VEVENT
BEGIN:VEVENT
DTSTART;TZID=America/Detroit:20300911T121500
DTEND;TZID=America/Detroit:20300911T133000
DTSTAMP:20260425T190737
CREATED:20221220T155915Z
LAST-MODIFIED:20221220T155915Z
UID:10005523-1915359300-1915363800@columbusktc.org
SUMMARY:Midday Meditation
DESCRIPTION:Virtual Midday Meditation occurs each Wednesday afternoon from 12:15-1:30. \nSee the Virtual Shrine Room for the most recent Zoom link.
URL:https://columbusktc.org/event/midday-meditation-350/2030-09-11/
LOCATION:Zoom Meeting
CATEGORIES:Event,Services
ORGANIZER;CN="Columbus KTC":MAILTO:info@columbusktc.org
END:VEVENT
BEGIN:VEVENT
DTSTART;TZID=America/Detroit:20300917T190000
DTEND;TZID=America/Detroit:20300917T200000
DTSTAMP:20260425T190737
CREATED:20221220T155713Z
LAST-MODIFIED:20221220T155713Z
UID:10005380-1915902000-1915905600@columbusktc.org
SUMMARY:Chenrezig Chant
DESCRIPTION:Virtual Chenrezig Chant occurs weekly on Tuesday evenings. \nSee the Virtual Shrine Room for the most recent Zoom link.
URL:https://columbusktc.org/event/chenrezig-chant-128/2030-09-17/
LOCATION:Zoom Meeting
CATEGORIES:Event,Services
ORGANIZER;CN="Columbus KTC":MAILTO:info@columbusktc.org
END:VEVENT
BEGIN:VEVENT
DTSTART;TZID=America/Detroit:20300918T121500
DTEND;TZID=America/Detroit:20300918T133000
DTSTAMP:20260425T190737
CREATED:20221220T155915Z
LAST-MODIFIED:20221220T155915Z
UID:10005524-1915964100-1915968600@columbusktc.org
SUMMARY:Midday Meditation
DESCRIPTION:Virtual Midday Meditation occurs each Wednesday afternoon from 12:15-1:30. \nSee the Virtual Shrine Room for the most recent Zoom link.
URL:https://columbusktc.org/event/midday-meditation-350/2030-09-18/
LOCATION:Zoom Meeting
CATEGORIES:Event,Services
ORGANIZER;CN="Columbus KTC":MAILTO:info@columbusktc.org
END:VEVENT
BEGIN:VEVENT
DTSTART;TZID=America/Detroit:20300924T190000
DTEND;TZID=America/Detroit:20300924T200000
DTSTAMP:20260425T190737
CREATED:20221220T155713Z
LAST-MODIFIED:20221220T155713Z
UID:10005751-1916506800-1916510400@columbusktc.org
SUMMARY:Chenrezig Chant
DESCRIPTION:Virtual Chenrezig Chant occurs weekly on Tuesday evenings. \nSee the Virtual Shrine Room for the most recent Zoom link.
URL:https://columbusktc.org/event/chenrezig-chant-128/2030-09-24/
LOCATION:Zoom Meeting
CATEGORIES:Event,Services
ORGANIZER;CN="Columbus KTC":MAILTO:info@columbusktc.org
END:VEVENT
BEGIN:VEVENT
DTSTART;TZID=America/Detroit:20300925T121500
DTEND;TZID=America/Detroit:20300925T133000
DTSTAMP:20260425T190737
CREATED:20221220T155915Z
LAST-MODIFIED:20221220T155915Z
UID:10005752-1916568900-1916573400@columbusktc.org
SUMMARY:Midday Meditation
DESCRIPTION:Virtual Midday Meditation occurs each Wednesday afternoon from 12:15-1:30. \nSee the Virtual Shrine Room for the most recent Zoom link.
URL:https://columbusktc.org/event/midday-meditation-350/2030-09-25/
LOCATION:Zoom Meeting
CATEGORIES:Event,Services
ORGANIZER;CN="Columbus KTC":MAILTO:info@columbusktc.org
END:VEVENT
BEGIN:VEVENT
DTSTART;TZID=America/Detroit:20301001T190000
DTEND;TZID=America/Detroit:20301001T200000
DTSTAMP:20260425T190737
CREATED:20221220T155713Z
LAST-MODIFIED:20221220T155713Z
UID:10005786-1917111600-1917115200@columbusktc.org
SUMMARY:Chenrezig Chant
DESCRIPTION:Virtual Chenrezig Chant occurs weekly on Tuesday evenings. \nSee the Virtual Shrine Room for the most recent Zoom link.
URL:https://columbusktc.org/event/chenrezig-chant-128/2030-10-01/
LOCATION:Zoom Meeting
CATEGORIES:Event,Services
ORGANIZER;CN="Columbus KTC":MAILTO:info@columbusktc.org
END:VEVENT
BEGIN:VEVENT
DTSTART;TZID=America/Detroit:20301002T121500
DTEND;TZID=America/Detroit:20301002T133000
DTSTAMP:20260425T190737
CREATED:20221220T155915Z
LAST-MODIFIED:20221220T155915Z
UID:10005788-1917173700-1917178200@columbusktc.org
SUMMARY:Midday Meditation
DESCRIPTION:Virtual Midday Meditation occurs each Wednesday afternoon from 12:15-1:30. \nSee the Virtual Shrine Room for the most recent Zoom link.
URL:https://columbusktc.org/event/midday-meditation-350/2030-10-02/
LOCATION:Zoom Meeting
CATEGORIES:Event,Services
ORGANIZER;CN="Columbus KTC":MAILTO:info@columbusktc.org
END:VEVENT
BEGIN:VEVENT
DTSTART;TZID=America/Detroit:20301008T190000
DTEND;TZID=America/Detroit:20301008T200000
DTSTAMP:20260425T190737
CREATED:20221220T155713Z
LAST-MODIFIED:20221220T155713Z
UID:10005789-1917716400-1917720000@columbusktc.org
SUMMARY:Chenrezig Chant
DESCRIPTION:Virtual Chenrezig Chant occurs weekly on Tuesday evenings. \nSee the Virtual Shrine Room for the most recent Zoom link.
URL:https://columbusktc.org/event/chenrezig-chant-128/2030-10-08/
LOCATION:Zoom Meeting
CATEGORIES:Event,Services
ORGANIZER;CN="Columbus KTC":MAILTO:info@columbusktc.org
END:VEVENT
BEGIN:VEVENT
DTSTART;TZID=America/Detroit:20301009T121500
DTEND;TZID=America/Detroit:20301009T133000
DTSTAMP:20260425T190737
CREATED:20221220T155915Z
LAST-MODIFIED:20221220T155915Z
UID:10005793-1917778500-1917783000@columbusktc.org
SUMMARY:Midday Meditation
DESCRIPTION:Virtual Midday Meditation occurs each Wednesday afternoon from 12:15-1:30. \nSee the Virtual Shrine Room for the most recent Zoom link.
URL:https://columbusktc.org/event/midday-meditation-350/2030-10-09/
LOCATION:Zoom Meeting
CATEGORIES:Event,Services
ORGANIZER;CN="Columbus KTC":MAILTO:info@columbusktc.org
END:VEVENT
BEGIN:VEVENT
DTSTART;TZID=America/Detroit:20301015T190000
DTEND;TZID=America/Detroit:20301015T200000
DTSTAMP:20260425T190737
CREATED:20221220T155713Z
LAST-MODIFIED:20221220T155713Z
UID:10005792-1918321200-1918324800@columbusktc.org
SUMMARY:Chenrezig Chant
DESCRIPTION:Virtual Chenrezig Chant occurs weekly on Tuesday evenings. \nSee the Virtual Shrine Room for the most recent Zoom link.
URL:https://columbusktc.org/event/chenrezig-chant-128/2030-10-15/
LOCATION:Zoom Meeting
CATEGORIES:Event,Services
ORGANIZER;CN="Columbus KTC":MAILTO:info@columbusktc.org
END:VEVENT
BEGIN:VEVENT
DTSTART;TZID=America/Detroit:20301016T121500
DTEND;TZID=America/Detroit:20301016T133000
DTSTAMP:20260425T190737
CREATED:20221220T155915Z
LAST-MODIFIED:20221220T155915Z
UID:10005797-1918383300-1918387800@columbusktc.org
SUMMARY:Midday Meditation
DESCRIPTION:Virtual Midday Meditation occurs each Wednesday afternoon from 12:15-1:30. \nSee the Virtual Shrine Room for the most recent Zoom link.
URL:https://columbusktc.org/event/midday-meditation-350/2030-10-16/
LOCATION:Zoom Meeting
CATEGORIES:Event,Services
ORGANIZER;CN="Columbus KTC":MAILTO:info@columbusktc.org
END:VEVENT
BEGIN:VEVENT
DTSTART;TZID=America/Detroit:20301022T190000
DTEND;TZID=America/Detroit:20301022T200000
DTSTAMP:20260425T190737
CREATED:20221220T155713Z
LAST-MODIFIED:20221220T155713Z
UID:10005796-1918926000-1918929600@columbusktc.org
SUMMARY:Chenrezig Chant
DESCRIPTION:Virtual Chenrezig Chant occurs weekly on Tuesday evenings. \nSee the Virtual Shrine Room for the most recent Zoom link.
URL:https://columbusktc.org/event/chenrezig-chant-128/2030-10-22/
LOCATION:Zoom Meeting
CATEGORIES:Event,Services
ORGANIZER;CN="Columbus KTC":MAILTO:info@columbusktc.org
END:VEVENT
BEGIN:VEVENT
DTSTART;TZID=America/Detroit:20301023T121500
DTEND;TZID=America/Detroit:20301023T133000
DTSTAMP:20260425T190737
CREATED:20221220T155915Z
LAST-MODIFIED:20221220T155915Z
UID:10005801-1918988100-1918992600@columbusktc.org
SUMMARY:Midday Meditation
DESCRIPTION:Virtual Midday Meditation occurs each Wednesday afternoon from 12:15-1:30. \nSee the Virtual Shrine Room for the most recent Zoom link.
URL:https://columbusktc.org/event/midday-meditation-350/2030-10-23/
LOCATION:Zoom Meeting
CATEGORIES:Event,Services
ORGANIZER;CN="Columbus KTC":MAILTO:info@columbusktc.org
END:VEVENT
BEGIN:VEVENT
DTSTART;TZID=America/Detroit:20301029T190000
DTEND;TZID=America/Detroit:20301029T200000
DTSTAMP:20260425T190737
CREATED:20221220T155713Z
LAST-MODIFIED:20221220T155713Z
UID:10005800-1919530800-1919534400@columbusktc.org
SUMMARY:Chenrezig Chant
DESCRIPTION:Virtual Chenrezig Chant occurs weekly on Tuesday evenings. \nSee the Virtual Shrine Room for the most recent Zoom link.
URL:https://columbusktc.org/event/chenrezig-chant-128/2030-10-29/
LOCATION:Zoom Meeting
CATEGORIES:Event,Services
ORGANIZER;CN="Columbus KTC":MAILTO:info@columbusktc.org
END:VEVENT
END:VCALENDAR